Workbook

Sheet Mapa
F3: Matriz de Riesgos | AO3: Fecha Vigencia | AP3: 45502
AO4: Versión | AP4: 2
AO5: Clasificación de la información | AP5: Publica
C7: Fecha de la ultima actualización de la Matriz de Riesgos | L7: 45789 | AO7: Vigencia | AP7: 2025
D9: Riesgo Inherente | O9: Determinar Controles | P9: Riesgo Residual | AD9: Plan de Acción | AN9: Materialización del riesgo
C10: ID | D10: Proceso/ Subproceso | E10: Riesgo | F10: Tipo de Riesgo | G10: Clasificación del Riesgo | H10: Activo de Información (seguridad de la Información) | I10: Amenaza (seguridad de la Información) | J10: Causas - Vulnerabilidades(seguridad Información) | K10: Consecuencias | L10: Probabilidad | M10: Impacto | N10: Nivel | O10: Control Existente | P10: Evaluación del Control | Q10: Solidez Individual del Control | R10: Calificación Individual de controles | S10: Calificación Solidez Conjunto de Controles | T10: Solidez Conjunto de Controles | U10: Controles disminuyen Probabilidad? | V10: Controles disminuyen Impacto? | W10: Disminución Probabilidad | X10: Disminución Probabilidad | Y10: Probabilidad Aprox | Z10: Impacto Aprox | AA10: Probabilidad | AB10: Impacto | AC10: Nivel | AD10: Opción de manejo | AE10: Estrategia Utilizada para manejo | AF10: Acciones Preventivas o de Tratamiento | AG10: Responsable de la acción | AH10: Fecha de Inicio | AI10: Fecha de terminación | AJ10: Periodo Seguimiento | AK10: Indicador o registro de control | AL10: Ubicación Indicador/Registro | AM10: Acción de contingencia ante posible materialización | AN10: Materialización del Riesgo? | AO10: Descripción? | AP10: No Acción Correctiva
C11: 1 | D11: Direccionamiento Estratégico | E11: Incumplimiento de los objetivos de la Planeación estratégica y las metas establecidas | F11: Gestión | G11: Estratégico | H11: No aplica | I11: No aplica | J11: No existe un diagnostico actualizado o asertivo de la situación de la empresa | K11: Reproceso en la formulación de planes, políticas y proyectos, incumplimiento de los objetivos estratégicos. Omisión de necesidades y problemáticas de algunas dependencias. Sanciones por incumplimiento legal. Demoras en la formulación de los lineamientos, políticas y/o estrategias Deterioro de la imagen institucional | L11: 1 | M11: 4 | N11: =INDEX(DATOS!$J$4:$N$8,Mapa!L11:L13,Mapa!M11:M13) -> Alta | O11: Se realiza el Análisis del contexto a través del DOFA, se tiene implementado el Cuadro de Mando integral a nivel corporativo, por cada proceso y cargo. | P11: Son efectivos y están documentados | Q11: =_xlfn.IFS(P11=DATOS!$R$2,DATOS!$S$2,P11=DATOS!$R$3,DATOS!$S$3,P11=DATOS!$R$4,DATOS!$S$4,P11=DATOS!$R$5,DATOS!$S$5,P11=DATOS!$R$6,DATOS!$S$6) -> Fuerte | R11: =_xlfn.IFS(Q11=DATOS!$S$2,DATOS!$T$2,Q11=DATOS!$S$4,DATOS!$T$4,Q11=DATOS!$S$5,DATOS!$T$5,Q11=DATOS!$S$6,DATOS!$T$6) -> 100 | S11: =AVERAGE(R11:R13) -> 100 | T11: =IF(S11>=100,"Fuerte",IF(OR(S11=99,S11>=50),"Moderado","Débil")) -> Fuerte | U11: Directa | V11: Directa | W11: =_xlfn.IFS(AND(T11=DATOS!$S$5,U11=DATOS!$X$2),2,AND(T11=DATOS!$S$5,U11=DATOS!$U$4),0,AND(T11=DATOS!$S$5,U11=DATOS!$U$3),0,AND(T11=DATOS!$S$4,U11=DATOS!$U$2,1),1,AND(T11=DATOS!$S$4,U11=DATOS!$U$4),0,AND(T11=DATOS!$S$4,U11=DATOS!$U$3),0,AND(T11=DATOS!$S$2,U11=DATOS!$U$4),0) -> 2 | X11: =_xlfn.IFS(AND(T11=DATOS!$S$5,V11=DATOS!$U$2),2,AND(T11=DATOS!$S$5,V11=DATOS!$U$4),0,AND(T11=DATOS!$S$5,V11=DATOS!$U$3),1,AND(T11=DATOS!$S$4,V11=DATOS!$U$2,1),1,AND(T11=DATOS!$S$4,V11=DATOS!$U$4),0,AND(T11=DATOS!$S$4,V11=DATOS!$U$3),0,AND(T11=DATOS!$S$2,V11=DATOS!$U$4),0) -> 2 | Y11: =L11-W11 -> -1 | Z11: =M11-X11 -> 2 | AA11: =_xlfn.IFS(AND(Y11=0),1,AND(Y11=1),1,AND(Y11=2),2,AND(Y11=3),3,AND(Y11=4),4,AND(Y11=5),5,AND(Y11=-1),1) -> 1 | AB11: =_xlfn.IFS(AND(Z11=0),1,AND(Z11=1),1,AND(Z11=2),2,AND(Z11=3),3,AND(Z11=4),4,AND(Z11=5),5,AND(Z11=-1),1) -> 2 | AC11: =INDEX(DATOS!$J$4:$N$8,Mapa!AA11:AA13,Mapa!AB11:AB13) -> Baja | AD11: =_xlfn.IFS(AC11=DATOS!$O$2,DATOS!$P$2,AC11=DATOS!$O$3,DATOS!$P$3,AC11=DATOS!$O$4,DATOS!$P$4,AC11=DATOS!$O$5,DATOS!$P$5) -> Asumir el riesgo | AE11: Reducir el riesgo | AF11: 1.Reunión mensual de Seguimiento (Comité Directivo) para verificar estado de avance para el cumplimiento de los objetivos y desplegar las acciones necesarias con respecto al análisis de tendencia de los indicadores. 2. Implementación metodología Balance scorecard a nivel de cada cargo Continuar aplicando los controles | AG11: Director Ejecutivo | AH11: 45665 | AI11: 46022 | AJ11: Mensual | AK11: Todos los indicadores establecidos en el Cuadro de Mando Corporativo ( Con los resultados Anuales) | AL11: Cuadro de Mando Corporativo | AM11: 1. Analizar las causas del incumplimiento 2. Se solicita al responsable la apertura de la acción de mejora 3. Seguimiento a las acciones definidas. 4. En caso de requerimientos de Entes de control, se prepara la respuesta correspondiente. | AN11: NO | AO11: No aplica | AP11: No aplica
D12: Direccionamiento Estratégico | F12: Gestión | G12: Estratégico | J12: Debilidad en los mecanismos para la alineación y control de las actividades y compromisos. Cambios en los Consejeros que no permitan continuidad en los objetivos, procesos, proyectos, programas. | O12: Se realiza comité directivo en el cual se verifica el cumplimiento de objetivos y estrategias. Se tiene implementada la metodología de Cuadro de Mando Integral para dar alineación, seguimiento y control a las actividades para el cumplimiento de los objetivos, así como el resultado de los indicadores. | P12: Son efectivos y están documentados | Q12: =_xlfn.IFS(P12=DATOS!$R$2,DATOS!$S$2,P12=DATOS!$R$3,DATOS!$S$3,P12=DATOS!$R$4,DATOS!$S$4,P12=DATOS!$R$5,DATOS!$S$5,P12=DATOS!$R$6,DATOS!$S$6) -> Fuerte | R12: =_xlfn.IFS(Q12=DATOS!$S$2,DATOS!$T$2,Q12=DATOS!$S$4,DATOS!$T$4,Q12=DATOS!$S$5,DATOS!$T$5,Q12=DATOS!$S$6,DATOS!$T$6) -> 100
D13: Direccionamiento Estratégico | F13: Gestión | G13: Estratégico | J13: Inexactitud en la formulación de planes, programas y/o proyectos asociados a la planeación estratégica | O13: Se tiene implementado el procedimiento, guía y formatos de proyectos, para llevar a cabo su formulación y seguimiento. Se cuenta con la herramienta de Cuadro de Mando - en el componente de estrategias en el cual se tiene el despliegue del plan de acción para el cumplimiento de los objetivos. | P13: Son efectivos y están documentados | Q13: =_xlfn.IFS(P13=DATOS!$R$2,DATOS!$S$2,P13=DATOS!$R$3,DATOS!$S$3,P13=DATOS!$R$4,DATOS!$S$4,P13=DATOS!$R$5,DATOS!$S$5,P13=DATOS!$R$6,DATOS!$S$6) -> Fuerte | R13: =_xlfn.IFS(Q13=DATOS!$S$2,DATOS!$T$2,Q13=DATOS!$S$4,DATOS!$T$4,Q13=DATOS!$S$5,DATOS!$T$5,Q13=DATOS!$S$6,DATOS!$T$6) -> 100
C14: 2 | D14: Direccionamiento Estratégico | E14: Inadecuada gestión de procesos y prestación de los servicios | F14: Gestión | G14: Estratégico | H14: No aplica | I14: No aplica | J14: Falta de claridad en el nivel de responsabilidad y autoridad | K14: Pérdida de la imagen institucional Reprocesos en la ejecución de la gestión Uso ineficiente de recursos Desgaste administrativo | L14: 1 | M14: 3 | N14: =INDEX(DATOS!$J$4:$N$8,Mapa!L14:L17,Mapa!M14:M17) -> Moderada | O14: Se tiene documentado el organigrama y el manual de funciones con las responsabilidades y autoridades. Se entrega a cada funcionario | P14: Son efectivos y están documentados | Q14: =_xlfn.IFS(P14=DATOS!$R$2,DATOS!$S$2,P14=DATOS!$R$3,DATOS!$S$3,P14=DATOS!$R$4,DATOS!$S$4,P14=DATOS!$R$5,DATOS!$S$5,P14=DATOS!$R$6,DATOS!$S$6) -> Fuerte | R14: =_xlfn.IFS(Q14=DATOS!$S$2,DATOS!$T$2,Q14=DATOS!$S$4,DATOS!$T$4,Q14=DATOS!$S$5,DATOS!$T$5,Q14=DATOS!$S$6,DATOS!$T$6) -> 100 | S14: =AVERAGE(R14:R17) -> 100 | T14: =IF(S14>=100,"Fuerte",IF(OR(S14=99,S14>=50),"Moderado","Débil")) -> Fuerte | U14: Directa | V14: Directa | W14: =_xlfn.IFS(AND(T14=DATOS!$S$5,U14=DATOS!$X$2),2,AND(T14=DATOS!$S$5,U14=DATOS!$U$4),0,AND(T14=DATOS!$S$5,U14=DATOS!$U$3),0,AND(T14=DATOS!$S$4,U14=DATOS!$U$2,1),1,AND(T14=DATOS!$S$4,U14=DATOS!$U$4),0,AND(T14=DATOS!$S$4,U14=DATOS!$U$3),0,AND(T14=DATOS!$S$2,U14=DATOS!$U$4),0) -> 2 | X14: =_xlfn.IFS(AND(T14=DATOS!$S$5,V14=DATOS!$U$2),2,AND(T14=DATOS!$S$5,V14=DATOS!$U$4),0,AND(T14=DATOS!$S$5,V14=DATOS!$U$3),1,AND(T14=DATOS!$S$4,V14=DATOS!$U$2,1),1,AND(T14=DATOS!$S$4,V14=DATOS!$U$4),0,AND(T14=DATOS!$S$4,V14=DATOS!$U$3),0,AND(T14=DATOS!$S$2,V14=DATOS!$U$4),0) -> 2 | Y14: =L14-W14 -> -1 | Z14: =M14-X14 -> 1 | AA14: =_xlfn.IFS(AND(Y14=0),1,AND(Y14=1),1,AND(Y14=2),2,AND(Y14=3),3,AND(Y14=4),4,AND(Y14=5),5,AND(Y14=-1),1) -> 1 | AB14: =_xlfn.IFS(AND(Z14=0),1,AND(Z14=1),1,AND(Z14=2),2,AND(Z14=3),3,AND(Z14=4),4,AND(Z14=5),5,AND(Z14=-1),1) -> 1 | AC14: =INDEX(DATOS!$J$4:$N$8,Mapa!AA14:AA17,Mapa!AB14:AB17) -> Baja | AD14: =_xlfn.IFS(AC14=DATOS!$O$2,DATOS!$P$2,AC14=DATOS!$O$3,DATOS!$P$3,AC14=DATOS!$O$4,DATOS!$P$4,AC14=DATOS!$O$5,DATOS!$P$5) -> Asumir el riesgo | AE14: Asumir el riesgo | AF14: 1.Estrategias para mejorar la atención a los clientes o usuarios. 2. Capacitación a técnicos de experiencia al cliente con relación a atención y servicio al cliente. 3. Formación especializada en Servicio al cliente y manejo de clientes difíciles. 4. Fortalecimiento al seguimiento y control de los procesos e implementación del programa de auditorias. 5. Acompañamiento por parte de planeación a las reuniones de procesos con el fin de identificar cambios, oportunidades y revisar indicadores. 6.Fortalecimiento de los procesos administrativos e interacciones con la seccional Santander. 7.Implementación metodología Balance scorecard a nivel de cada cargo Continuar aplicando los controles | AG14: Profesional Dirección Ejecutiva | AH14: 45665 | AI14: 46022 | AJ14: Mensual | AK14: Todos los indicadores establecidos en el Cuadro de Mando Corporativo ( Con los resultados Anuales) | AL14: Cuadro de Mando Corporativo | AM14: 1. Analizar las causas del incumplimiento 2. Se solicita al responsable la apertura de la acción de mejora 3. Seguimiento a las acciones definidas. | AN14: NO | AO14: No aplica | AP14: No aplica
D15: Direccionamiento Estratégico | F15: Gestión | G15: Estratégico | J15: Falta de lineamientos/requisitos claros | O15: Se definen los lineamientos a través de los procesos en los procedimientos, políticas, planes, manuales y demás documentos del SIG. En caso de cambios en los lineamientos se deben actualizar los documentos esto se evidencia en el control de cambios y nueva versión del documento. En el caso de no cumplir con los lineamientos, se documenta una salida no conforme o se genera una acción correctiva o de mejora. | P15: Son efectivos y están documentados | Q15: =_xlfn.IFS(P15=DATOS!$R$2,DATOS!$S$2,P15=DATOS!$R$3,DATOS!$S$3,P15=DATOS!$R$4,DATOS!$S$4,P15=DATOS!$R$5,DATOS!$S$5,P15=DATOS!$R$6,DATOS!$S$6) -> Fuerte | R15: =_xlfn.IFS(Q15=DATOS!$S$2,DATOS!$T$2,Q15=DATOS!$S$4,DATOS!$T$4,Q15=DATOS!$S$5,DATOS!$T$5,Q15=DATOS!$S$6,DATOS!$T$6) -> 100
D16: Direccionamiento Estratégico | F16: Gestión | G16: Estratégico | O16: Realización de auditorias internas a los procesos | P16: Son efectivos y están documentados | Q16: =_xlfn.IFS(P16=DATOS!$R$2,DATOS!$S$2,P16=DATOS!$R$3,DATOS!$S$3,P16=DATOS!$R$4,DATOS!$S$4,P16=DATOS!$R$5,DATOS!$S$5,P16=DATOS!$R$6,DATOS!$S$6) -> Fuerte | R16: =_xlfn.IFS(Q16=DATOS!$S$2,DATOS!$T$2,Q16=DATOS!$S$4,DATOS!$T$4,Q16=DATOS!$S$5,DATOS!$T$5,Q16=DATOS!$S$6,DATOS!$T$6) -> 100
D17: Direccionamiento Estratégico | F17: Gestión | G17: Estratégico | J17: Comunicación deficiente y desarticulada | O17: En los documentos del SIG, se encuentran las comunicaciones requeridas, (que comunica, como, cuando); se cuenta con un plan de comunicaciones. Se realiza una reunión mensual Comité Directivo para articular a todos los procesos y comunicar lineamientos. | P17: Son efectivos y están documentados | Q17: =_xlfn.IFS(P17=DATOS!$R$2,DATOS!$S$2,P17=DATOS!$R$3,DATOS!$S$3,P17=DATOS!$R$4,DATOS!$S$4,P17=DATOS!$R$5,DATOS!$S$5,P17=DATOS!$R$6,DATOS!$S$6) -> Fuerte | R17: =_xlfn.IFS(Q17=DATOS!$S$2,DATOS!$T$2,Q17=DATOS!$S$4,DATOS!$T$4,Q17=DATOS!$S$5,DATOS!$T$5,Q17=DATOS!$S$6,DATOS!$T$6) -> 100
C18: 3 | D18: Direccionamiento Estratégico | E18: Incumplimiento en las funciones públicas | F18: Gestión | G18: Cumplimiento | H18: No aplica | I18: No aplica | J18: Desarticulación entre los objetivos de los procesos y los objetivos estratégicos por el incumplimiento o falta de interiorización del contexto institucional. Falta de organización en los procesos y asignación de responsabilidades para el cumplimento de las funciones publicas. | K18: Sanciones, multas o investigaciones disciplinarias, penales o fiscales por parte de organismos de control y vigilancia. | L18: 2 | M18: 4 | N18: =INDEX(DATOS!$J$4:$N$8,Mapa!L18:L19,Mapa!M18:M19) -> Alta | O18: Se formularon objetivos estratégicos asociados a cada función publica atribuidas al CONTE Se definieron indicadores de seguimiento y medición para los objetivos asociados a las funciones publicas, así como las estrategias que permitan dar cumplimiento al objetivo y se establece la información documentada de los procesos misionales: Producción de matrículas, Procesos disciplinarios y fomento educativo. | P18: Son efectivos y están documentados | Q18: =_xlfn.IFS(P18=DATOS!$R$2,DATOS!$S$2,P18=DATOS!$R$3,DATOS!$S$3,P18=DATOS!$R$4,DATOS!$S$4,P18=DATOS!$R$5,DATOS!$S$5,P18=DATOS!$R$6,DATOS!$S$6) -> Fuerte | R18: =_xlfn.IFS(Q18=DATOS!$S$2,DATOS!$T$2,Q18=DATOS!$S$4,DATOS!$T$4,Q18=DATOS!$S$5,DATOS!$T$5,Q18=DATOS!$S$6,DATOS!$T$6) -> 100 | S18: =AVERAGE(R18:R19) -> 100 | T18: =IF(S18>=100,"Fuerte",IF(OR(S18=99,S18>=50),"Moderado","Débil")) -> Fuerte | U18: Directa | V18: Directa | W18: =_xlfn.IFS(AND(T18=DATOS!$S$5,U18=DATOS!$X$2),2,AND(T18=DATOS!$S$5,U18=DATOS!$U$4),0,AND(T18=DATOS!$S$5,U18=DATOS!$U$3),0,AND(T18=DATOS!$S$4,U18=DATOS!$U$2,1),1,AND(T18=DATOS!$S$4,U18=DATOS!$U$4),0,AND(T18=DATOS!$S$4,U18=DATOS!$U$3),0,AND(T18=DATOS!$S$2,U18=DATOS!$U$4),0) -> 2 | X18: =_xlfn.IFS(AND(T18=DATOS!$S$5,V18=DATOS!$U$2),2,AND(T18=DATOS!$S$5,V18=DATOS!$U$4),0,AND(T18=DATOS!$S$5,V18=DATOS!$U$3),1,AND(T18=DATOS!$S$4,V18=DATOS!$U$2,1),1,AND(T18=DATOS!$S$4,V18=DATOS!$U$4),0,AND(T18=DATOS!$S$4,V18=DATOS!$U$3),0,AND(T18=DATOS!$S$2,V18=DATOS!$U$4),0) -> 2 | Y18: =L18-W18 -> 0 | Z18: =M18-X18 -> 2 | AA18: =_xlfn.IFS(AND(Y18=0),1,AND(Y18=1),1,AND(Y18=2),2,AND(Y18=3),3,AND(Y18=4),4,AND(Y18=5),5,AND(Y18=-1),1) -> 1 | AB18: =_xlfn.IFS(AND(Z18=0),1,AND(Z18=1),1,AND(Z18=2),2,AND(Z18=3),3,AND(Z18=4),4,AND(Z18=5),5,AND(Z18=-1),1) -> 2 | AC18: =INDEX(DATOS!$J$4:$N$8,Mapa!AA18:AA19,Mapa!AB18:AB19) -> Baja | AD18: =_xlfn.IFS(AC18=DATOS!$O$2,DATOS!$P$2,AC18=DATOS!$O$3,DATOS!$P$3,AC18=DATOS!$O$4,DATOS!$P$4,AC18=DATOS!$O$5,DATOS!$P$5) -> Asumir el riesgo | AE18: Reducir el riesgo | AF18: Seguimiento y control a las estrategias incluidas en el cumplimiento de los objetivos del 1 al 4 los cuales están relacionados con el cumplimiento de las funciones publicas. | AG18: Dirección Ejecutiva | AH18: 45665 | AI18: 46022 | AJ18: Mensual | AK18: Indicadores de los Objetivos estratégicos 1,2,3 y 4 así como el seguimiento a sus estrategias (con los resultados anuales) | AL18: Cuadro de mando corporativo | AM18: 1. Analizar las causas del incumplimiento 2. Se solicita al responsable la apertura de la acción de mejora 3. Seguimiento a las acciones definidas. 4. En caso de requerimientos de Entes de control, se prepara la respuesta correspondiente. | AN18: NO | AO18: No aplica | AP18: No aplica
D19: Direccionamiento Estratégico | F19: Gestión | G19: Cumplimiento | J19: Falta de seguimiento a procesos de certificación, vigilancia o control. Presiones externas o conflictos de interés con gremios o actores del sector eléctrico. Débil cultura de cumplimiento y rendición de cuentas. | O19: Se cuenta con el programa de transparencia empresarial, el código de ética y buen gobierno corporativo, las auditorias internas e implementación del sistema integrado de gestión. | P19: Son efectivos y están documentados | Q19: =_xlfn.IFS(P19=DATOS!$R$2,DATOS!$S$2,P19=DATOS!$R$3,DATOS!$S$3,P19=DATOS!$R$4,DATOS!$S$4,P19=DATOS!$R$5,DATOS!$S$5,P19=DATOS!$R$6,DATOS!$S$6) -> Fuerte | R19: =_xlfn.IFS(Q19=DATOS!$S$2,DATOS!$T$2,Q19=DATOS!$S$4,DATOS!$T$4,Q19=DATOS!$S$5,DATOS!$T$5,Q19=DATOS!$S$6,DATOS!$T$6) -> 100
C20: 4 | D20: Direccionamiento Estratégico | E20: Información inoportuna, incorrecta, incompleta o inadecuada (comunicaciones) | F20: Gestión | G20: Información | H20: No aplica | I20: No aplica | J20: Falta de seguimiento de la producción comunicativa, desarticulación con las áreas que publican información, insuficiencia de insumos requeridos para la divulgación de la información, incumplimiento de la Política de Protección de Datos Personales por parte de los procesos solicitantes o del Creativo de Comunicaciones. | K20: Pérdida de la imagen institucional Reprocesos en la ejecución de la gestión Uso ineficiente de recursos Desgaste administrativo | L20: 1 | M20: 3 | N20: =INDEX(DATOS!$J$4:$N$8,Mapa!L20:L20,Mapa!M20:M20) -> Moderada | O20: Se cuenta con el Plan de Comunicaciones , Manual de marca., procedimiento generación de piezas graficas y/o publicaciones, política uso de marca contratos con terceros, así como con la política de tratamiento de datos y autorización de uso de datos personales. | P20: Son efectivos y están documentados | Q20: =_xlfn.IFS(P20=DATOS!$R$2,DATOS!$S$2,P20=DATOS!$R$3,DATOS!$S$3,P20=DATOS!$R$4,DATOS!$S$4,P20=DATOS!$R$5,DATOS!$S$5,P20=DATOS!$R$6,DATOS!$S$6) -> Fuerte | R20: =_xlfn.IFS(Q20=DATOS!$S$2,DATOS!$T$2,Q20=DATOS!$S$4,DATOS!$T$4,Q20=DATOS!$S$5,DATOS!$T$5,Q20=DATOS!$S$6,DATOS!$T$6) -> 100 | S20: =AVERAGE(R20:R20) -> 100 | T20: =IF(S20>=100,"Fuerte",IF(OR(S20=99,S20>=50),"Moderado","Débil")) -> Fuerte | U20: Directa | V20: Directa | W20: =_xlfn.IFS(AND(T20=DATOS!$S$5,U20=DATOS!$X$2),2,AND(T20=DATOS!$S$5,U20=DATOS!$U$4),0,AND(T20=DATOS!$S$5,U20=DATOS!$U$3),0,AND(T20=DATOS!$S$4,U20=DATOS!$U$2,1),1,AND(T20=DATOS!$S$4,U20=DATOS!$U$4),0,AND(T20=DATOS!$S$4,U20=DATOS!$U$3),0,AND(T20=DATOS!$S$2,U20=DATOS!$U$4),0) -> 2 | X20: =_xlfn.IFS(AND(T20=DATOS!$S$5,V20=DATOS!$U$2),2,AND(T20=DATOS!$S$5,V20=DATOS!$U$4),0,AND(T20=DATOS!$S$5,V20=DATOS!$U$3),1,AND(T20=DATOS!$S$4,V20=DATOS!$U$2,1),1,AND(T20=DATOS!$S$4,V20=DATOS!$U$4),0,AND(T20=DATOS!$S$4,V20=DATOS!$U$3),0,AND(T20=DATOS!$S$2,V20=DATOS!$U$4),0) -> 2 | Y20: =L20-W20 -> -1 | Z20: =M20-X20 -> 1 | AA20: =_xlfn.IFS(AND(Y20=0),1,AND(Y20=1),1,AND(Y20=2),2,AND(Y20=3),3,AND(Y20=4),4,AND(Y20=5),5,AND(Y20=-1),1) -> 1 | AB20: =_xlfn.IFS(AND(Z20=0),1,AND(Z20=1),1,AND(Z20=2),2,AND(Z20=3),3,AND(Z20=4),4,AND(Z20=5),5,AND(Z20=-1),1) -> 1 | AC20: =INDEX(DATOS!$J$4:$N$8,Mapa!AA20:AA20,Mapa!AB20:AB20) -> Baja | AD20: =_xlfn.IFS(AC20=DATOS!$O$2,DATOS!$P$2,AC20=DATOS!$O$3,DATOS!$P$3,AC20=DATOS!$O$4,DATOS!$P$4,AC20=DATOS!$O$5,DATOS!$P$5) -> Asumir el riesgo | AE20: Asumir el riesgo | AF20: Seguir aplicando los controles | AG20: Creativo de Comunicaciones | AH20: 45665 | AI20: 46022 | AJ20: Mensual | AK20: Indicadores del cargo - Creativo de comunicaciones. | AL20: Cuadro de mando | AM20: 1. Analizar las causas del incumplimiento 2. Se solicita al responsable la apertura de la acción de mejora 3. Seguimiento a las acciones definidas. | AN20: No | AO20: No aplica | AP20: No aplica
C21: 5 | D21: Direccionamiento Estratégico | E21: Incumplimiento en los objetivos de los proyectos | F21: Gestión | G21: Estratégico | H21: No aplica | I21: No aplica | J21: Causas relacionados con la parte Técnica: Problemas relacionados con la Tecnología, fallos en el diseño, falta de conocimientos Técnicos o la integración de sistemas. Causas relacionados con la parte de Recursos Humanos: Falta de personal capacitado, perdida de miembros clave del equipo, conflictos o falta de comunicación efectiva. | K21: Retrasos en el cronograma Aumento de costos Perdida de Calidad Pérdida de la imagen institucional Impacto negativo en la satisfacción de las partes interesadas Cancelación del proyecto o impacto en la viabilidad del proyecto. Impactos ambientales y sociales Sanciones regulatorias Perdidas Financieras Afectaciones en el ingreso y crecimiento de la empresa | L21: 2 | M21: 3 | N21: =INDEX(DATOS!$J$4:$N$8,Mapa!L21:L22,Mapa!M21:M22) -> Moderada | O21: Procedimiento y formatos de Gestión de proyectos. Guía metodológica para la presentación de proyectos | P21: Son efectivos y están documentados | Q21: =_xlfn.IFS(P21=DATOS!$R$2,DATOS!$S$2,P21=DATOS!$R$3,DATOS!$S$3,P21=DATOS!$R$4,DATOS!$S$4,P21=DATOS!$R$5,DATOS!$S$5,P21=DATOS!$R$6,DATOS!$S$6) -> Fuerte | R21: =_xlfn.IFS(Q21=DATOS!$S$2,DATOS!$T$2,Q21=DATOS!$S$4,DATOS!$T$4,Q21=DATOS!$S$5,DATOS!$T$5,Q21=DATOS!$S$6,DATOS!$T$6) -> 100 | S21: =AVERAGE(R21:R22) -> 100 | T21: =IF(S21>=100,"Fuerte",IF(OR(S21=99,S21>=50),"Moderado","Débil")) -> Fuerte | U21: Directa | V21: No disminuye | W21: =_xlfn.IFS(AND(T21=DATOS!$S$5,U21=DATOS!$X$2),2,AND(T21=DATOS!$S$5,U21=DATOS!$U$4),0,AND(T21=DATOS!$S$5,U21=DATOS!$U$3),0,AND(T21=DATOS!$S$4,U21=DATOS!$U$2,1),1,AND(T21=DATOS!$S$4,U21=DATOS!$U$4),0,AND(T21=DATOS!$S$4,U21=DATOS!$U$3),0,AND(T21=DATOS!$S$2,U21=DATOS!$U$4),0) -> 2 | X21: =_xlfn.IFS(AND(T21=DATOS!$S$5,V21=DATOS!$U$2),2,AND(T21=DATOS!$S$5,V21=DATOS!$U$4),0,AND(T21=DATOS!$S$5,V21=DATOS!$U$3),1,AND(T21=DATOS!$S$4,V21=DATOS!$U$2,1),1,AND(T21=DATOS!$S$4,V21=DATOS!$U$4),0,AND(T21=DATOS!$S$4,V21=DATOS!$U$3),0,AND(T21=DATOS!$S$2,V21=DATOS!$U$4),0) -> 0 | Y21: =L21-W21 -> 0 | Z21: =M21-X21 -> 3 | AA21: =_xlfn.IFS(AND(Y21=0),1,AND(Y21=1),1,AND(Y21=2),2,AND(Y21=3),3,AND(Y21=4),4,AND(Y21=5),5,AND(Y21=-1),1) -> 1 | AB21: =_xlfn.IFS(AND(Z21=0),1,AND(Z21=1),1,AND(Z21=2),2,AND(Z21=3),3,AND(Z21=4),4,AND(Z21=5),5,AND(Z21=-1),1) -> 3 | AC21: =INDEX(DATOS!$J$4:$N$8,Mapa!AA21:AA22,Mapa!AB21:AB22) -> Moderada | AD21: =_xlfn.IFS(AC21=DATOS!$O$2,DATOS!$P$2,AC21=DATOS!$O$3,DATOS!$P$3,AC21=DATOS!$O$4,DATOS!$P$4,AC21=DATOS!$O$5,DATOS!$P$5) -> Asumir o reducir el riesgo | AE21: Reducir el riesgo | AF21: 1. Control de los proyectos desde la planeación estratégica. 2. seguimiento al estado de los proyectos por parte de la Dirección Ejecutiva. 3. Acompañamiento a los proyectos por parte de un Especialista en proyectos. 4. Socialización y fortalecimiento de la aplicación del procedimiento de proyectos. | AG21: Profesional Gestión de proyectos. | AH21: 45665 | AI21: 46022 | AJ21: Mensual | AK21: Cumplimiento plan de trabajo de los proyectos | AL21: Cuadro de Mando Corporativo | AM21: 1. Analizar las causas del incumplimiento 2. Se solicita al responsable la apertura de la acción de mejora 3. Seguimiento a las acciones definidas. 4. En caso de requerimientos de Entes de control o partes interesadas, se prepara la respuesta correspondiente. | AN21: No | AO21: No aplica | AP21: No aplica
D22: Direccionamiento Estratégico | F22: Gestión | G22: Estratégico | J22: Problemas relacionados con la parte Financiera: Presupuesto insuficiente, cambios en el costo de los recursos, errores en la estimación de costos, fluctuaciones económicas. Causas relacionadas con el cronograma: Retrasos en la entrega, dependencia de tareas criticas, problemas para coordinar con proveedores. Causas relacionadas con el aspecto legal: Cumplimiento normativo, cambios en las leyes o regulaciones, problemas con contratos o propiedades. | O22: Asignación de un grupo interdisciplinario para el desarrollo de los proyectos. Estudio de factibilidad técnica y financiera previo. Realización de auditorias internas. Planeación y seguimiento integral a los proyectos | P22: Son efectivos y están documentados | Q22: =_xlfn.IFS(P22=DATOS!$R$2,DATOS!$S$2,P22=DATOS!$R$3,DATOS!$S$3,P22=DATOS!$R$4,DATOS!$S$4,P22=DATOS!$R$5,DATOS!$S$5,P22=DATOS!$R$6,DATOS!$S$6) -> Fuerte | R22: =_xlfn.IFS(Q22=DATOS!$S$2,DATOS!$T$2,Q22=DATOS!$S$4,DATOS!$T$4,Q22=DATOS!$S$5,DATOS!$T$5,Q22=DATOS!$S$6,DATOS!$T$6) -> 100
C23: 6 | D23: Direccionamiento Estratégico | E23: Aprobar y ejecutar un presupuesto que no cubra las necesidades de toda la vigencia fiscal. | F23: Gestión | G23: Estratégico | H23: No aplica | I23: No aplica | J23: Deficiencia en la programación y proyección de las necesidades e inversiones. Falta de generación de presupuesto a través de grupo interdisciplinario para cubrir todas las necesidades. | K23: Recorte de presupuesto para las vigencias siguientes en cada proceso Incumplimiento de los objetivos institucionales. Incumplimiento de metas e indicadores, proyectos o programas | L23: 1 | M23: 3 | N23: =INDEX(DATOS!$J$4:$N$8,Mapa!L23:L24,Mapa!M23:M24) -> Moderada | O23: Se realiza una planeación de los recursos por cada proceso para la siguiente vigencia, se realiza seguimiento y control del presupuesto aprobado por medio de herramienta tecnológica (modulo de presupuesto), así mismo se cuenta con procedimiento de presupuesto. | P23: Son efectivos y están documentados | Q23: =_xlfn.IFS(P23=DATOS!$R$2,DATOS!$S$2,P23=DATOS!$R$3,DATOS!$S$3,P23=DATOS!$R$4,DATOS!$S$4,P23=DATOS!$R$5,DATOS!$S$5,P23=DATOS!$R$6,DATOS!$S$6) -> Fuerte | R23: =_xlfn.IFS(Q23=DATOS!$S$2,DATOS!$T$2,Q23=DATOS!$S$4,DATOS!$T$4,Q23=DATOS!$S$5,DATOS!$T$5,Q23=DATOS!$S$6,DATOS!$T$6) -> 100 | S23: =AVERAGE(R23:R24) -> 100 | T23: =IF(S23>=100,"Fuerte",IF(OR(S23=99,S23>=50),"Moderado","Débil")) -> Fuerte | U23: Directa | V23: Directa | W23: =_xlfn.IFS(AND(T23=DATOS!$S$5,U23=DATOS!$X$2),2,AND(T23=DATOS!$S$5,U23=DATOS!$U$4),0,AND(T23=DATOS!$S$5,U23=DATOS!$U$3),0,AND(T23=DATOS!$S$4,U23=DATOS!$U$2,1),1,AND(T23=DATOS!$S$4,U23=DATOS!$U$4),0,AND(T23=DATOS!$S$4,U23=DATOS!$U$3),0,AND(T23=DATOS!$S$2,U23=DATOS!$U$4),0) -> 2 | X23: =_xlfn.IFS(AND(T23=DATOS!$S$5,V23=DATOS!$U$2),2,AND(T23=DATOS!$S$5,V23=DATOS!$U$4),0,AND(T23=DATOS!$S$5,V23=DATOS!$U$3),1,AND(T23=DATOS!$S$4,V23=DATOS!$U$2,1),1,AND(T23=DATOS!$S$4,V23=DATOS!$U$4),0,AND(T23=DATOS!$S$4,V23=DATOS!$U$3),0,AND(T23=DATOS!$S$2,V23=DATOS!$U$4),0) -> 2 | Y23: =L23-W23 -> -1 | Z23: =M23-X23 -> 1 | AA23: =_xlfn.IFS(AND(Y23=0),1,AND(Y23=1),1,AND(Y23=2),2,AND(Y23=3),3,AND(Y23=4),4,AND(Y23=5),5,AND(Y23=-1),1) -> 1 | AB23: =_xlfn.IFS(AND(Z23=0),1,AND(Z23=1),1,AND(Z23=2),2,AND(Z23=3),3,AND(Z23=4),4,AND(Z23=5),5,AND(Z23=-1),1) -> 1 | AC23: =INDEX(DATOS!$J$4:$N$8,Mapa!AA23:AA24,Mapa!AB23:AB24) -> Baja | AD23: =_xlfn.IFS(AC23=DATOS!$O$2,DATOS!$P$2,AC23=DATOS!$O$3,DATOS!$P$3,AC23=DATOS!$O$4,DATOS!$P$4,AC23=DATOS!$O$5,DATOS!$P$5) -> Asumir el riesgo | AE23: Reducir el riesgo | AF23: 1. Definición de Procedimiento y lineamientos para la proyección del presupuesto de la entidad. 2. Estructurar seguimiento y control a las Cuentas Contables y Presupuestales que afectan el Ingreso, Gasto y Costo, (control, ejecución y responsabilidad del rubro por cada responsable de proceso). | AG23: Profesional Financiero-Dirección Ejecutiva | AH23: 45665 | AI23: 46022 | AJ23: Bimestral | AK23: Indicador ejecución presupuestal | AL23: Cuadro de Mando Corporativo | AM23: 1. Analizar las causas del incumplimiento 2.Documentar la acción de mejora, definición de alternativas de endeudamiento u obtención de recursos. 3. Seguimiento a las acciones definidas. 4. En caso de requerimientos de Entes de control, se prepara la respuesta correspondiente. | AN23: NO | AO23: No aplica | AP23: No aplica
D24: Financiero | F24: Gestión | G24: Estratégico | O24: Se tiene la planeación estratégica en la cual se verifican los recursos necesarios para la ejecución de los objetivos/planes/programas y proyectos. Auditorias por parte de la revisoría fiscal. Se revisa las necesidades de cada proceso en el presupuesto de gastos y se realiza control bimestral a la ejecución de los mismos, informando el estado del presupuesto y alinear el presupuesto con el plan anual de compras - PAC | P24: Son efectivos y están documentados | Q24: =_xlfn.IFS(P24=DATOS!$R$2,DATOS!$S$2,P24=DATOS!$R$3,DATOS!$S$3,P24=DATOS!$R$4,DATOS!$S$4,P24=DATOS!$R$5,DATOS!$S$5,P24=DATOS!$R$6,DATOS!$S$6) -> Fuerte | R24: =_xlfn.IFS(Q24=DATOS!$S$2,DATOS!$T$2,Q24=DATOS!$S$4,DATOS!$T$4,Q24=DATOS!$S$5,DATOS!$T$5,Q24=DATOS!$S$6,DATOS!$T$6) -> 100
C25: 7 | D25: Direccionamiento Estratégico | E25: Inoportunidad en la publicación o presentación de informes de gestión, revisión por la dirección e informes de ley. | F25: Gestión | G25: Estratégico | H25: No aplica | I25: No aplica | J25: Inoportunidad en el reporte de la información para el seguimiento. Fallas en la implementación del sistema integrado de gestión Falta de cultura institucional orientada a la planificación, evaluación y mejora continua. | K25: Omisión de necesidades y problemáticas de algunas dependencias. Sanciones por incumplimiento legal. Deterioro de la imagen institucional | L25: 1 | M25: 3 | N25: =INDEX(DATOS!$J$4:$N$8,Mapa!L25:L26,Mapa!M25:M26) -> Moderada | O25: Recolectar y revisar el informa de gestión de cada uno de los procesos. Control a la presentación de informes por parte de planeación | P25: Son efectivos y están documentados | Q25: =_xlfn.IFS(P25=DATOS!$R$2,DATOS!$S$2,P25=DATOS!$R$3,DATOS!$S$3,P25=DATOS!$R$4,DATOS!$S$4,P25=DATOS!$R$5,DATOS!$S$5,P25=DATOS!$R$6,DATOS!$S$6) -> Fuerte | R25: =_xlfn.IFS(Q25=DATOS!$S$2,DATOS!$T$2,Q25=DATOS!$S$4,DATOS!$T$4,Q25=DATOS!$S$5,DATOS!$T$5,Q25=DATOS!$S$6,DATOS!$T$6) -> 100 | S25: =AVERAGE(R25:R26) -> 100 | T25: =IF(S25>=100,"Fuerte",IF(OR(S25=99,S25>=50),"Moderado","Débil")) -> Fuerte | U25: Directa | V25: Directa | W25: =_xlfn.IFS(AND(T25=DATOS!$S$5,U25=DATOS!$X$2),2,AND(T25=DATOS!$S$5,U25=DATOS!$U$4),0,AND(T25=DATOS!$S$5,U25=DATOS!$U$3),0,AND(T25=DATOS!$S$4,U25=DATOS!$U$2,1),1,AND(T25=DATOS!$S$4,U25=DATOS!$U$4),0,AND(T25=DATOS!$S$4,U25=DATOS!$U$3),0,AND(T25=DATOS!$S$2,U25=DATOS!$U$4),0) -> 2 | X25: =_xlfn.IFS(AND(T25=DATOS!$S$5,V25=DATOS!$U$2),2,AND(T25=DATOS!$S$5,V25=DATOS!$U$4),0,AND(T25=DATOS!$S$5,V25=DATOS!$U$3),1,AND(T25=DATOS!$S$4,V25=DATOS!$U$2,1),1,AND(T25=DATOS!$S$4,V25=DATOS!$U$4),0,AND(T25=DATOS!$S$4,V25=DATOS!$U$3),0,AND(T25=DATOS!$S$2,V25=DATOS!$U$4),0) -> 2 | Y25: =L25-W25 -> -1 | Z25: =M25-X25 -> 1 | AA25: =_xlfn.IFS(AND(Y25=0),1,AND(Y25=1),1,AND(Y25=2),2,AND(Y25=3),3,AND(Y25=4),4,AND(Y25=5),5,AND(Y25=-1),1) -> 1 | AB25: =_xlfn.IFS(AND(Z25=0),1,AND(Z25=1),1,AND(Z25=2),2,AND(Z25=3),3,AND(Z25=4),4,AND(Z25=5),5,AND(Z25=-1),1) -> 1 | AC25: =INDEX(DATOS!$J$4:$N$8,Mapa!AA25:AA26,Mapa!AB25:AB26) -> Baja | AD25: =_xlfn.IFS(AC25=DATOS!$O$2,DATOS!$P$2,AC25=DATOS!$O$3,DATOS!$P$3,AC25=DATOS!$O$4,DATOS!$P$4,AC25=DATOS!$O$5,DATOS!$P$5) -> Asumir el riesgo | AE25: Asumir el riesgo | AF25: 1. Preparar formato para presentación de informe de gestión por parte de cada proceso. 2. Establecer cronograma de presentación de informes a entes de control y partes interesadas y realizar seguimiento y control a la ejecución del mismo. Continuar con la aplicación de controles | AG25: Profesional Dirección Ejecutiva Analista de planeación | AH25: 45665 | AI25: 46022 | AJ25: Semestral | AK25: Cronograma de presentación de informes. | AL25: Carpeta compartida de control y mejora continua. | AM25: 1. Analizar las causas del incumplimiento 2. Se solicita a la Dirección Ejecutiva la apertura de la acción de mejora 3. Seguimiento a las acciones definidas. 4. En caso de requerimientos de Entes de control, se prepara la respuesta correspondiente. | AN25: NO | AO25: No aplica | AP25: No aplica
D26: Direccionamiento Estratégico | F26: Gestión | G26: Estratégico | J26: Falta de compromiso por parte de los lideres de los procesos. Falta de seguimiento y control a la ejecución de los informes. Ausencia de un cronograma oficial y compartido para la recolección, consolidación y publicación de la información del SIG. Desarticulación entre los procesos responsables de generar y consolidar los datos estratégicos. | O26: Planificar y solicitar los documentos pertinentes para la revisión por la dirección. | P26: Son efectivos y están documentados | Q26: =_xlfn.IFS(P26=DATOS!$R$2,DATOS!$S$2,P26=DATOS!$R$3,DATOS!$S$3,P26=DATOS!$R$4,DATOS!$S$4,P26=DATOS!$R$5,DATOS!$S$5,P26=DATOS!$R$6,DATOS!$S$6) -> Fuerte | R26: =_xlfn.IFS(Q26=DATOS!$S$2,DATOS!$T$2,Q26=DATOS!$S$4,DATOS!$T$4,Q26=DATOS!$S$5,DATOS!$T$5,Q26=DATOS!$S$6,DATOS!$T$6) -> 100
C27: 8 | D27: Control y Mejora Continua | E27: Incorrecta evaluación de cumplimiento de los procesos de acuerdo con los requisitos aplicables (auditorias internas) | F27: Gestión | G27: Estratégico | H27: No aplica | I27: No aplica | J27: Limitación en la información, Declarar hallazgos sin evidencias o por fallas en la interpretación de los requisitos debido a desconocimiento de los requisitos aplicables y el contexto institucional. | K27: Pérdida de eficiencia y cumplimiento en los procesos, materialización de riesgos e incumplimiento de los requisitos | L27: 2 | M27: 3 | N27: =INDEX(DATOS!$J$4:$N$8,Mapa!L27:L30,Mapa!M27:M30) -> Moderada | O27: Se tiene una reunión de cierre por cada auditoria interna en el cual el auditado revisa los hallazgos. Se cuenta con el procedimiento de Auditoria Interna y Guía para el ejercicio de la auditoria interna y normas de ética y profesionalidad. | P27: Son efectivos y están documentados | Q27: =_xlfn.IFS(P27=DATOS!$R$2,DATOS!$S$2,P27=DATOS!$R$3,DATOS!$S$3,P27=DATOS!$R$4,DATOS!$S$4,P27=DATOS!$R$5,DATOS!$S$5,P27=DATOS!$R$6,DATOS!$S$6) -> Fuerte | R27: =_xlfn.IFS(Q27=DATOS!$S$2,DATOS!$T$2,Q27=DATOS!$S$4,DATOS!$T$4,Q27=DATOS!$S$5,DATOS!$T$5,Q27=DATOS!$S$6,DATOS!$T$6) -> 100 | S27: =AVERAGE(R27:R30) -> 100 | T27: =IF(S27>=100,"Fuerte",IF(OR(S27=99,S27>=50),"Moderado","Débil")) -> Fuerte | U27: Directa | V27: No disminuye | W27: =_xlfn.IFS(AND(T27=DATOS!$S$5,U27=DATOS!$X$2),2,AND(T27=DATOS!$S$5,U27=DATOS!$U$4),0,AND(T27=DATOS!$S$5,U27=DATOS!$U$3),0,AND(T27=DATOS!$S$4,U27=DATOS!$U$2,1),1,AND(T27=DATOS!$S$4,U27=DATOS!$U$4),0,AND(T27=DATOS!$S$4,U27=DATOS!$U$3),0,AND(T27=DATOS!$S$2,U27=DATOS!$U$4),0) -> 2 | X27: =_xlfn.IFS(AND(T27=DATOS!$S$5,V27=DATOS!$U$2),2,AND(T27=DATOS!$S$5,V27=DATOS!$U$4),0,AND(T27=DATOS!$S$5,V27=DATOS!$U$3),1,AND(T27=DATOS!$S$4,V27=DATOS!$U$2,1),1,AND(T27=DATOS!$S$4,V27=DATOS!$U$4),0,AND(T27=DATOS!$S$4,V27=DATOS!$U$3),0,AND(T27=DATOS!$S$2,V27=DATOS!$U$4),0) -> 0 | Y27: =L27-W27 -> 0 | Z27: =M27-X27 -> 3 | AA27: =_xlfn.IFS(AND(Y27=0),1,AND(Y27=1),1,AND(Y27=2),2,AND(Y27=3),3,AND(Y27=4),4,AND(Y27=5),5,AND(Y27=-1),1) -> 1 | AB27: =_xlfn.IFS(AND(Z27=0),1,AND(Z27=1),1,AND(Z27=2),2,AND(Z27=3),3,AND(Z27=4),4,AND(Z27=5),5,AND(Z27=-1),1) -> 3 | AC27: =INDEX(DATOS!$J$4:$N$8,Mapa!AA27:AA30,Mapa!AB27:AB30) -> Moderada | AD27: =_xlfn.IFS(AC27=DATOS!$O$2,DATOS!$P$2,AC27=DATOS!$O$3,DATOS!$P$3,AC27=DATOS!$O$4,DATOS!$P$4,AC27=DATOS!$O$5,DATOS!$P$5) -> Asumir o reducir el riesgo | AE27: Reducir el riesgo | AF27: 1.El Asesor del SIG acompaña las auditorias internas y la redacción de informes de auditoria. 2. Para el proceso de Tecnología se realizará el acompañamiento por un experto técnico con formación en Ingeniería de Sistemas. 3. Para Procesos disciplinarios se cuenta con experto técnico con formación en derecho. Continuar aplicando los controles | AG27: Profesional de Auditoria Interna | AH27: 45665 | AI27: 46022 | AJ27: Trimestral | AK27: Indicador de ejecución de auditorias | AL27: Cuadro de Mando del proceso Control y Mejora Continua | AM27: 1. Analizar las causas del incumplimiento 2. Se solicita al responsable la apertura de la acción de mejora 3. Seguimiento a las acciones definidas. 4. En caso de requerimientos de Entes de control, se prepara la respuesta correspondiente y el proceso según aplique. | AN27: NO | AO27: No aplica | AP27: No aplica
D28: Control y Mejora Continua | F28: Gestión | G28: Estratégico | J28: Calidad de la evidencia, | K28: Pérdida de credibilidad de la Entidad, Multas o sanciones. | O28: El informe de las auditorias internas, se respalda con las listas de verificación de las auditorias. | P28: Son efectivos y están documentados | Q28: =_xlfn.IFS(P28=DATOS!$R$2,DATOS!$S$2,P28=DATOS!$R$3,DATOS!$S$3,P28=DATOS!$R$4,DATOS!$S$4,P28=DATOS!$R$5,DATOS!$S$5,P28=DATOS!$R$6,DATOS!$S$6) -> Fuerte | R28: =_xlfn.IFS(Q28=DATOS!$S$2,DATOS!$T$2,Q28=DATOS!$S$4,DATOS!$T$4,Q28=DATOS!$S$5,DATOS!$T$5,Q28=DATOS!$S$6,DATOS!$T$6) -> 100
D29: Control y Mejora Continua | F29: Gestión | G29: Estratégico | J29: Inadecuada redacción de los informes de evaluación. | K29: Hallazgos de Entes de control externos | O29: El Profesional de Auditoria interna participa en la elaboración de los informes de auditoria, verifica la claridad del informe frente a los criterios establecidos. | P29: Son efectivos y están documentados | Q29: =_xlfn.IFS(P29=DATOS!$R$2,DATOS!$S$2,P29=DATOS!$R$3,DATOS!$S$3,P29=DATOS!$R$4,DATOS!$S$4,P29=DATOS!$R$5,DATOS!$S$5,P29=DATOS!$R$6,DATOS!$S$6) -> Fuerte | R29: =_xlfn.IFS(Q29=DATOS!$S$2,DATOS!$T$2,Q29=DATOS!$S$4,DATOS!$T$4,Q29=DATOS!$S$5,DATOS!$T$5,Q29=DATOS!$S$6,DATOS!$T$6) -> 100
D30: Control y Mejora Continua | F30: Gestión | G30: Estratégico | J30: Inoportunidad en la entrega de los informes, fallas en la planeación de la auditoria. | K30: No se generan alertas tempranas para la toma de decisiones, incumplimiento de los objetivos institucionales. | O30: Se cuenta con el Programa Anual de Auditorias aprobado por el Consejo Directivo y se realiza seguimiento por parte del Profesional de Auditoria Interna para la entrega de informes | P30: Son efectivos y están documentados | Q30: =_xlfn.IFS(P30=DATOS!$R$2,DATOS!$S$2,P30=DATOS!$R$3,DATOS!$S$3,P30=DATOS!$R$4,DATOS!$S$4,P30=DATOS!$R$5,DATOS!$S$5,P30=DATOS!$R$6,DATOS!$S$6) -> Fuerte | R30: =_xlfn.IFS(Q30=DATOS!$S$2,DATOS!$T$2,Q30=DATOS!$S$4,DATOS!$T$4,Q30=DATOS!$S$5,DATOS!$T$5,Q30=DATOS!$S$6,DATOS!$T$6) -> 100
C31: 9 | D31: Todos los procesos | E31: Entrega de información inoportuna e imprecisa para la toma de decisiones | F31: Gestión | G31: Información | H31: No aplica | I31: No aplica | J31: Debilidad en la articulación de datos, errores en la toma y registro de los datos. Falta de habilidad y/o atención al detalle para la presentación de datos e información para indicadores. Falta de conciencia sobre la importancia de la calidad de los datos para la toma de decisiones estratégicas. Uso de herramientas informales (hojas de cálculo no integradas) que aumentan el riesgo de error. | K31: Mala toma de decisiones Pérdida de credibilidad interna y externa Reprocesos | L31: 3 | M31: 3 | N31: =INDEX(DATOS!$J$4:$N$8,Mapa!L31:L33,Mapa!M31:M33) -> Alta | O31: Mensualmente se consolida los datos entregados por los procesos en su Cuadro de Mando al Cuadro de Mando corporativo (indicadores relacionados) con los resultados de la gestión institucional. En caso de detectar inconsistencias se verifica y ajusta los datos. Capacitación periódica en gestión de información, análisis de datos y uso de sistemas institucionales (Cuadro de Mando, SIG, etc.). | P31: Son efectivos y están documentados | Q31: =_xlfn.IFS(P31=DATOS!$R$2,DATOS!$S$2,P31=DATOS!$R$3,DATOS!$S$3,P31=DATOS!$R$4,DATOS!$S$4,P31=DATOS!$R$5,DATOS!$S$5,P31=DATOS!$R$6,DATOS!$S$6) -> Fuerte | R31: =_xlfn.IFS(Q31=DATOS!$S$2,DATOS!$T$2,Q31=DATOS!$S$4,DATOS!$T$4,Q31=DATOS!$S$5,DATOS!$T$5,Q31=DATOS!$S$6,DATOS!$T$6) -> 100 | S31: =AVERAGE(R31:R33) -> 100 | T31: =IF(S31>=100,"Fuerte",IF(OR(S31=99,S31>=50),"Moderado","Débil")) -> Fuerte | U31: Directa | V31: No disminuye | W31: =_xlfn.IFS(AND(T31=DATOS!$S$5,U31=DATOS!$X$2),2,AND(T31=DATOS!$S$5,U31=DATOS!$U$4),0,AND(T31=DATOS!$S$5,U31=DATOS!$U$3),0,AND(T31=DATOS!$S$4,U31=DATOS!$U$2,1),1,AND(T31=DATOS!$S$4,U31=DATOS!$U$4),0,AND(T31=DATOS!$S$4,U31=DATOS!$U$3),0,AND(T31=DATOS!$S$2,U31=DATOS!$U$4),0) -> 2 | X31: =_xlfn.IFS(AND(T31=DATOS!$S$5,V31=DATOS!$U$2),2,AND(T31=DATOS!$S$5,V31=DATOS!$U$4),0,AND(T31=DATOS!$S$5,V31=DATOS!$U$3),1,AND(T31=DATOS!$S$4,V31=DATOS!$U$2,1),1,AND(T31=DATOS!$S$4,V31=DATOS!$U$4),0,AND(T31=DATOS!$S$4,V31=DATOS!$U$3),0,AND(T31=DATOS!$S$2,V31=DATOS!$U$4),0) -> 0 | Y31: =L31-W31 -> 1 | Z31: =M31-X31 -> 3 | AA31: =_xlfn.IFS(AND(Y31=0),1,AND(Y31=1),1,AND(Y31=2),2,AND(Y31=3),3,AND(Y31=4),4,AND(Y31=5),5,AND(Y31=-1),1) -> 1 | AB31: =_xlfn.IFS(AND(Z31=0),1,AND(Z31=1),1,AND(Z31=2),2,AND(Z31=3),3,AND(Z31=4),4,AND(Z31=5),5,AND(Z31=-1),1) -> 3 | AC31: =INDEX(DATOS!$J$4:$N$8,Mapa!AA31:AA33,Mapa!AB31:AB33) -> Moderada | AD31: =_xlfn.IFS(AC31=DATOS!$O$2,DATOS!$P$2,AC31=DATOS!$O$3,DATOS!$P$3,AC31=DATOS!$O$4,DATOS!$P$4,AC31=DATOS!$O$5,DATOS!$P$5) -> Asumir o reducir el riesgo | AE31: Reducir el riesgo | AF31: 1. El Analista de Planeación y Profesional de Auditoria Interna revisará todo el análisis de datos generado por el SIG (auditorias, indicadores, encuestas de satisfacción, evaluación de proveedores, etc.) para verificar oportunidad y precisión. 2. Implementación de Cuadros de Mando por proceso. 3. Seguimiento mensual a la actualización de los Cuadros de Mando de los procesos. Continuar aplicando los controles 3 Instructivo para el diligenciamiento y presentación de indicadores. | AG31: Analista de Planeación/Profesional de Auditoria Interna/Profesional Dirección Ejecutiva | AH31: 45665 | AI31: 46022 | AJ31: Mensual | AK31: •Seguimiento a la actividad 2 del plan inspección para el fortalecimiento a procesos. • Informes de auditorias internas. | AL31: Carpeta compartida de control y mejora continua. | AM31: 1. Analizar las causas del incumplimiento 2. Se solicita al responsable la apertura de la acción de mejora 3. Seguimiento a las acciones definidas. | AN31: SI | AO31: NC del proceso direccionamiento estratégico: No se evidencia en todos los casos la validación de los resultados de los métodos de seguimiento y medición de los indicadores de gestión: •Respecto al Indicador de Cumplimiento del PINAR, el resultado registrado para enero es del 100%. Sin embargo, al revisar el archivo soporte del plan de trabajo del PINAR, se observa que no se han programado actividades para este mes. •En cuanto al Indicador de Proyectos, se reporta un cumplimiento del 100% para el mes de enero. Sin embargo, al revisar el archivo soporte y conciliar el plan de trabajo del SGDEA con el archivo de Formulación de Proyectos, se observa que, aunque se contempla una actividad para enero relacionada con los flujos de trabajo de producción de matrículas, esta no fue ejecutada. Lo anterior incumplió con el numeral 9.1 Seguimiento, Medición, Análisis y Evaluación -Generalidades de la ISO 9001:2015. NC del proceso Fomento educativo: Se evidencia que el Cronograma de capacitación inicial no se actualiza conforme a los imprevistos o eventos realizados posteriormente, por lo tanto impacta en el cálculo de los indicadores de eficacia del fomento educativo e índice de asistencia, generando resultados no validos ni fiables. Incumpliendo lo establecido en el numeral 7.1.5.1 Recursos de seguimiento y medición- Generalidades de la norma ISO 9001:2015 NC Proceso Producción de matricula: Durante la auditoría se evidenciaron inconsistencias entre lo planificado, lo ejecutado y lo reportado, así como deficiencias en el análisis de indicadores del proceso, lo que compromete la confiabilidad de la información utilizada para la toma de decisiones y la mejora del desempeño. En particular: En el plan de trabajo del proceso, se estableció como meta la inactivación de 130 licencias especiales por caducidad. Sin embargo, en la actualización de la base de matriculados se registran solo 127 licencias inactivadas, sin justificación ni trazabilidad de la diferencia de tres casos frente al objetivo trazado. b) En el análisis del indicador del mes de enero, se reportó que no se presentaron productos no conformes identificados por el cliente. No obstante, al revisar la base de datos del sistema PQRSD, se identificaron cuatro productos no conformes no contemplados en dicho análisis, con los siguientes consecutivos: i. 2-2025120000114 – Corrección de plantilla – EDUTECNICA – Subsanado (sin radicado). ii. Sin radicado – Error en el cargue de plantilla – CEFFIC – Subsanado. iii. 2-2025120000123 – Corrección de plantilla – EDUTECNICA – Subsanado. iv. 2-2025120000119 – Corrección de plantilla – EDUTECNICA – Subsanado. Estas no conformidades fueron gestionadas, pero no se reflejan en el indicador, afectando la integridad del análisis mensual y el seguimiento a la satisfacción del cliente. Incumpliendo lo establecido en el numeral 9.1.1 Seguimiento, medición, análisis y evaluación literal b) y 9.1.3 Análisis y evaluación de la norma ISO 9001:2015 | AP31: 86-15-91
D32: Todos los procesos | F32: Gestión | G32: Información | J32: Debilidad en la articulación de procesos. Bajo nivel de formación en manejo de herramientas de análisis y reporte por parte del personal responsable. Falta de trazabilidad en los datos de información. Falta de confiabilidad en las herramientas tecnológicas o mecanismos automatizados. | O32: Los Cuadros de Mando de los diferentes procesos son validados en las auditorias internas. Aplicación del plan de inspección para el fortalecimiento de procesos - actividad 2 | P32: Son efectivos y están documentados | Q32: =_xlfn.IFS(P32=DATOS!$R$2,DATOS!$S$2,P32=DATOS!$R$3,DATOS!$S$3,P32=DATOS!$R$4,DATOS!$S$4,P32=DATOS!$R$5,DATOS!$S$5,P32=DATOS!$R$6,DATOS!$S$6) -> Fuerte | R32: =_xlfn.IFS(Q32=DATOS!$S$2,DATOS!$T$2,Q32=DATOS!$S$4,DATOS!$T$4,Q32=DATOS!$S$5,DATOS!$T$5,Q32=DATOS!$S$6,DATOS!$T$6) -> 100
D33: Todos los procesos | F33: Gestión | G33: Información | O33: El Profesional de la Dirección Ejecutiva o Analista de Planeación solicita la apertura de las acciones de mejora correspondientes cuando los indicadores están en rojo o insatisfactorio, los resultados de auditorias internas y demás análisis de datos derivados del SIG. | P33: Son efectivos y están documentados | Q33: =_xlfn.IFS(P33=DATOS!$R$2,DATOS!$S$2,P33=DATOS!$R$3,DATOS!$S$3,P33=DATOS!$R$4,DATOS!$S$4,P33=DATOS!$R$5,DATOS!$S$5,P33=DATOS!$R$6,DATOS!$S$6) -> Fuerte | R33: =_xlfn.IFS(Q33=DATOS!$S$2,DATOS!$T$2,Q33=DATOS!$S$4,DATOS!$T$4,Q33=DATOS!$S$5,DATOS!$T$5,Q33=DATOS!$S$6,DATOS!$T$6) -> 100
C34: 10 | D34: Control y Mejora Continua | E34: Inadecuada planificación y desarrollo de las actividades relacionadas con la implementación y mantenimiento del Sistema Integrado de Gestión | F34: Gestión | G34: Operativo | H34: No aplica | I34: No aplica | J34: Falta de articulación entre los objetivos estratégicos y los componentes del SIG. Ausencia de un cronograma institucional que incluya la implementación, mantenimiento y mejora del SIG. | K34: Implementación parcial o superficial del Sistema Integrado de Gestión. Dificultad para evidenciar cumplimiento normativo ante entes de control. Reprocesos en auditorías internas y externas. Incumplimiento de metas institucionales ligadas a calidad, ambiente, SST u otros ejes del SIG. Pérdida de credibilidad institucional frente a usuarios, técnicos registrados y otras partes interesadas. Posibles sanciones o llamados de atención por parte de entes reguladores. | L34: 1 | M34: 2 | N34: =INDEX(DATOS!$J$4:$N$8,Mapa!L34:L36,Mapa!M34:M36) -> Baja | O34: Aprobación y divulgación institucional de los Planes de implementación y/o mantenimiento del SIG, alineado con las estrategias, incluyendo responsables, metas, cronograma y recursos asignados. | P34: Son efectivos y están documentados | Q34: =_xlfn.IFS(P34=DATOS!$R$2,DATOS!$S$2,P34=DATOS!$R$3,DATOS!$S$3,P34=DATOS!$R$4,DATOS!$S$4,P34=DATOS!$R$5,DATOS!$S$5,P34=DATOS!$R$6,DATOS!$S$6) -> Fuerte | R34: =_xlfn.IFS(Q34=DATOS!$S$2,DATOS!$T$2,Q34=DATOS!$S$4,DATOS!$T$4,Q34=DATOS!$S$5,DATOS!$T$5,Q34=DATOS!$S$6,DATOS!$T$6) -> 100 | S34: =AVERAGE(R34:R36) -> 100 | T34: =IF(S34>=100,"Fuerte",IF(OR(S34=99,S34>=50),"Moderado","Débil")) -> Fuerte | U34: Directa | V34: Directa | W34: =_xlfn.IFS(AND(T34=DATOS!$S$5,U34=DATOS!$X$2),2,AND(T34=DATOS!$S$5,U34=DATOS!$U$4),0,AND(T34=DATOS!$S$5,U34=DATOS!$U$3),0,AND(T34=DATOS!$S$4,U34=DATOS!$U$2,1),1,AND(T34=DATOS!$S$4,U34=DATOS!$U$4),0,AND(T34=DATOS!$S$4,U34=DATOS!$U$3),0,AND(T34=DATOS!$S$2,U34=DATOS!$U$4),0) -> 2 | X34: =_xlfn.IFS(AND(T34=DATOS!$S$5,V34=DATOS!$U$2),2,AND(T34=DATOS!$S$5,V34=DATOS!$U$4),0,AND(T34=DATOS!$S$5,V34=DATOS!$U$3),1,AND(T34=DATOS!$S$4,V34=DATOS!$U$2,1),1,AND(T34=DATOS!$S$4,V34=DATOS!$U$4),0,AND(T34=DATOS!$S$4,V34=DATOS!$U$3),0,AND(T34=DATOS!$S$2,V34=DATOS!$U$4),0) -> 2 | Y34: =L34-W34 -> -1 | Z34: =M34-X34 -> 0 | AA34: =_xlfn.IFS(AND(Y34=0),1,AND(Y34=1),1,AND(Y34=2),2,AND(Y34=3),3,AND(Y34=4),4,AND(Y34=5),5,AND(Y34=-1),1) -> 1 | AB34: =_xlfn.IFS(AND(Z34=0),1,AND(Z34=1),1,AND(Z34=2),2,AND(Z34=3),3,AND(Z34=4),4,AND(Z34=5),5,AND(Z34=-1),1) -> 1 | AC34: =INDEX(DATOS!$J$4:$N$8,Mapa!AA34:AA36,Mapa!AB34:AB36) -> Baja | AD34: =_xlfn.IFS(AC34=DATOS!$O$2,DATOS!$P$2,AC34=DATOS!$O$3,DATOS!$P$3,AC34=DATOS!$O$4,DATOS!$P$4,AC34=DATOS!$O$5,DATOS!$P$5) -> Asumir el riesgo | AE34: Asumir el riesgo | AF34: 1. Implementar el plan de trabajo del Subsistema de SST 2. Implementación del programa de auditorias internas. Continuar aplicando los controles | AG34: Analista de Planeación / Líder Administrativo / Profesional de auditoria interna | AH34: 45665 | AI34: 46022 | AJ34: Trimestral | AK34: Implementación del Plan de trabajo SST y responsabilidad social. | AL34: Cuadro de Mando proceso administrativo | AM34: 1. Ajustar el cronograma 2.Realizar ajustes a las metodologías 3. Reiteración de comunicados y Ampliación de plazos | AN34: NO | AO34: No aplica | AP34: No aplica
D35: Control y Mejora Continua | F35: Gestión | G35: Ambiental | J35: Insuficiente divulgación y conocimiento del componentes y elementos del SIG por parte de los procesos . Falta de liderazgo y apropiación por parte de los líderes de proceso frente al SIG. Rotación de personal sin inducción en temas de calidad y gestión integral. | O35: Implementar las metodologías establecidas en la gestión de los procesos (encuestas de satisfacción, cuadro de mando, evaluación de proveedores, etc.). Implementación de los procedimientos de Inducción, entrenamiento y capacitación. | P35: Son efectivos y están documentados | Q35: =_xlfn.IFS(P35=DATOS!$R$2,DATOS!$S$2,P35=DATOS!$R$3,DATOS!$S$3,P35=DATOS!$R$4,DATOS!$S$4,P35=DATOS!$R$5,DATOS!$S$5,P35=DATOS!$R$6,DATOS!$S$6) -> Fuerte | R35: =_xlfn.IFS(Q35=DATOS!$S$2,DATOS!$T$2,Q35=DATOS!$S$4,DATOS!$T$4,Q35=DATOS!$S$5,DATOS!$T$5,Q35=DATOS!$S$6,DATOS!$T$6) -> 100
D36: Control y Mejora Continua | F36: Gestión | G36: SST | J36: Insuficientes mecanismos de monitoreo en el desarrollo e implementación del SIG | O36: Realizar el monitoreo a la implementación de los planes de trabajo del SIG. | P36: Son efectivos y están documentados | Q36: =_xlfn.IFS(P36=DATOS!$R$2,DATOS!$S$2,P36=DATOS!$R$3,DATOS!$S$3,P36=DATOS!$R$4,DATOS!$S$4,P36=DATOS!$R$5,DATOS!$S$5,P36=DATOS!$R$6,DATOS!$S$6) -> Fuerte | R36: =_xlfn.IFS(Q36=DATOS!$S$2,DATOS!$T$2,Q36=DATOS!$S$4,DATOS!$T$4,Q36=DATOS!$S$5,DATOS!$T$5,Q36=DATOS!$S$6,DATOS!$T$6) -> 100
C37: 11 | D37: Control y Mejora Continua | E37: Inadecuada implementación de los planes de mejoramiento por parte de los procesos del Sistema Integrado de Gestión y/o acciones de mejora ineficaces | F37: Gestión | G37: Operativo | H37: No aplica | I37: No aplica | J37: Falta de conocimiento de las metodologías relacionadas a mejoramiento. Débil análisis de viabilidad técnica y operativa de las acciones propuestas. | K37: Reprocesos en la formulación de los planes de mejoramiento. Mejoras no incorporadas en la gestión de los procesos Cierre no eficaz de los planes de mejoramiento Incumplimientos Mala imagen Pérdida de credibilidad | L37: 1 | M37: 2 | N37: =INDEX(DATOS!$J$4:$N$8,Mapa!L37:L39,Mapa!M37:M39) -> Baja | O37: Procedimiento Gestión del cambio y acciones de Mejora. | P37: Son efectivos y están documentados | Q37: =_xlfn.IFS(P37=DATOS!$R$2,DATOS!$S$2,P37=DATOS!$R$3,DATOS!$S$3,P37=DATOS!$R$4,DATOS!$S$4,P37=DATOS!$R$5,DATOS!$S$5,P37=DATOS!$R$6,DATOS!$S$6) -> Fuerte | R37: =_xlfn.IFS(Q37=DATOS!$S$2,DATOS!$T$2,Q37=DATOS!$S$4,DATOS!$T$4,Q37=DATOS!$S$5,DATOS!$T$5,Q37=DATOS!$S$6,DATOS!$T$6) -> 100 | S37: =AVERAGE(R37:R39) -> 100 | T37: =IF(S37>=100,"Fuerte",IF(OR(S37=99,S37>=50),"Moderado","Débil")) -> Fuerte | U37: Directa | V37: Directa | W37: =_xlfn.IFS(AND(T37=DATOS!$S$5,U37=DATOS!$X$2),2,AND(T37=DATOS!$S$5,U37=DATOS!$U$4),0,AND(T37=DATOS!$S$5,U37=DATOS!$U$3),0,AND(T37=DATOS!$S$4,U37=DATOS!$U$2,1),1,AND(T37=DATOS!$S$4,U37=DATOS!$U$4),0,AND(T37=DATOS!$S$4,U37=DATOS!$U$3),0,AND(T37=DATOS!$S$2,U37=DATOS!$U$4),0) -> 2 | X37: =_xlfn.IFS(AND(T37=DATOS!$S$5,V37=DATOS!$U$2),2,AND(T37=DATOS!$S$5,V37=DATOS!$U$4),0,AND(T37=DATOS!$S$5,V37=DATOS!$U$3),1,AND(T37=DATOS!$S$4,V37=DATOS!$U$2,1),1,AND(T37=DATOS!$S$4,V37=DATOS!$U$4),0,AND(T37=DATOS!$S$4,V37=DATOS!$U$3),0,AND(T37=DATOS!$S$2,V37=DATOS!$U$4),0) -> 2 | Y37: =L37-W37 -> -1 | Z37: =M37-X37 -> 0 | AA37: =_xlfn.IFS(AND(Y37=0),1,AND(Y37=1),1,AND(Y37=2),2,AND(Y37=3),3,AND(Y37=4),4,AND(Y37=5),5,AND(Y37=-1),1) -> 1 | AB37: =_xlfn.IFS(AND(Z37=0),1,AND(Z37=1),1,AND(Z37=2),2,AND(Z37=3),3,AND(Z37=4),4,AND(Z37=5),5,AND(Z37=-1),1) -> 1 | AC37: =INDEX(DATOS!$J$4:$N$8,Mapa!AA37:AA39,Mapa!AB37:AB39) -> Baja | AD37: =_xlfn.IFS(AC37=DATOS!$O$2,DATOS!$P$2,AC37=DATOS!$O$3,DATOS!$P$3,AC37=DATOS!$O$4,DATOS!$P$4,AC37=DATOS!$O$5,DATOS!$P$5) -> Asumir el riesgo | AE37: Asumir el riesgo | AF37: 1. Seguimiento del estado de implementación de las acciones de mejora por parte del Profesional de Auditorias Internas 2. Informe de acciones de mejora abiertas a cada líder de proceso. 3. Se revisan las acciones pendientes por ejecutar en el comité directivo. | AG37: Profesional de Auditoria Interna | AH37: 45665 | AI37: 46022 | AJ37: Trimestral | AK37: Indicador Implementar acciones de mejora eficaces | AL37: Cuadro de Mando Corporativo | AM37: 1. Corregir y ajustar los planes de mejora que no cumplen las especificaciones 2. Si, la acción de mejora no es eficaz se debe generar una nueva acción de mejora. | AN37: NO | AO37: No aplica | AP37: No aplica
D38: Control y Mejora Continua | F38: Gestión | G38: Ambiental | J38: Insuficientes mecanismos de divulgación sobre las metodologías de mejoramiento Falta de implementación del plan de acción definido por parte del proceso | O38: Reuniones en compañía de un equipo interdisciplinario para documentar las acciones de mejora con los involucrados. | P38: Son efectivos y están documentados | Q38: =_xlfn.IFS(P38=DATOS!$R$2,DATOS!$S$2,P38=DATOS!$R$3,DATOS!$S$3,P38=DATOS!$R$4,DATOS!$S$4,P38=DATOS!$R$5,DATOS!$S$5,P38=DATOS!$R$6,DATOS!$S$6) -> Fuerte | R38: =_xlfn.IFS(Q38=DATOS!$S$2,DATOS!$T$2,Q38=DATOS!$S$4,DATOS!$T$4,Q38=DATOS!$S$5,DATOS!$T$5,Q38=DATOS!$S$6,DATOS!$T$6) -> 100
D39: Control y Mejora Continua | F39: Gestión | G39: SST | J39: Débil evaluación de la viabilidad de desarrollo de los planes de mejoramiento | O39: Realización de seguimiento a la implementación de las acciones de mejora y evaluación de recursos en la implementación de las mismas a través de la matriz de acciones. | P39: Son efectivos y están documentados | Q39: =_xlfn.IFS(P39=DATOS!$R$2,DATOS!$S$2,P39=DATOS!$R$3,DATOS!$S$3,P39=DATOS!$R$4,DATOS!$S$4,P39=DATOS!$R$5,DATOS!$S$5,P39=DATOS!$R$6,DATOS!$S$6) -> Fuerte | R39: =_xlfn.IFS(Q39=DATOS!$S$2,DATOS!$T$2,Q39=DATOS!$S$4,DATOS!$T$4,Q39=DATOS!$S$5,DATOS!$T$5,Q39=DATOS!$S$6,DATOS!$T$6) -> 100
C40: 12 | D40: Control y Mejora Continua | E40: Incumplimiento de las disposiciones institucionales y normativas en materia de gestión documental | F40: Gestión | G40: Operativo | H40: No aplica | I40: No aplica | J40: Desactualización o desconocimiento de las Tablas de Retención Documental (TRD) y de la Gestión Documental. | K40: Incumplimiento al Sistema Integrado de gestión Incumplimiento normativo en materia de gestión documental y archivística | L40: 4 | M40: 3 | N40: =INDEX(DATOS!$J$4:$N$8,Mapa!L40:L42,Mapa!M40:M42) -> Alta | O40: Implementación del Manual de Gestión documental y el procedimiento de Control de información documentada. | P40: Son efectivos y están documentados | Q40: =_xlfn.IFS(P40=DATOS!$R$2,DATOS!$S$2,P40=DATOS!$R$3,DATOS!$S$3,P40=DATOS!$R$4,DATOS!$S$4,P40=DATOS!$R$5,DATOS!$S$5,P40=DATOS!$R$6,DATOS!$S$6) -> Fuerte | R40: =_xlfn.IFS(Q40=DATOS!$S$2,DATOS!$T$2,Q40=DATOS!$S$4,DATOS!$T$4,Q40=DATOS!$S$5,DATOS!$T$5,Q40=DATOS!$S$6,DATOS!$T$6) -> 100 | S40: =AVERAGE(R40:R42) -> 66.666667 | T40: =IF(S40>=100,"Fuerte",IF(OR(S40=99,S40>=50),"Moderado","Débil")) -> Moderado | U40: Directa | V40: Directa | W40: =_xlfn.IFS(AND(T40=DATOS!$S$5,U40=DATOS!$X$2),2,AND(T40=DATOS!$S$5,U40=DATOS!$U$4),0,AND(T40=DATOS!$S$5,U40=DATOS!$U$3),0,AND(T40=DATOS!$S$4,U40=DATOS!$U$2,1),1,AND(T40=DATOS!$S$4,U40=DATOS!$U$4),0,AND(T40=DATOS!$S$4,U40=DATOS!$U$3),0,AND(T40=DATOS!$S$2,U40=DATOS!$U$4),0) -> 1 | X40: =_xlfn.IFS(AND(T40=DATOS!$S$5,V40=DATOS!$U$2),2,AND(T40=DATOS!$S$5,V40=DATOS!$U$4),0,AND(T40=DATOS!$S$5,V40=DATOS!$U$3),1,AND(T40=DATOS!$S$4,V40=DATOS!$U$2,1),1,AND(T40=DATOS!$S$4,V40=DATOS!$U$4),0,AND(T40=DATOS!$S$4,V40=DATOS!$U$3),0,AND(T40=DATOS!$S$2,V40=DATOS!$U$4),0) -> 1 | Y40: =L40-W40 -> 3 | Z40: =M40-X40 -> 2 | AA40: =_xlfn.IFS(AND(Y40=0),1,AND(Y40=1),1,AND(Y40=2),2,AND(Y40=3),3,AND(Y40=4),4,AND(Y40=5),5,AND(Y40=-1),1) -> 3 | AB40: =_xlfn.IFS(AND(Z40=0),1,AND(Z40=1),1,AND(Z40=2),2,AND(Z40=3),3,AND(Z40=4),4,AND(Z40=5),5,AND(Z40=-1),1) -> 2 | AC40: =INDEX(DATOS!$J$4:$N$8,Mapa!AA40:AA42,Mapa!AB40:AB42) -> Moderada | AD40: =_xlfn.IFS(AC40=DATOS!$O$2,DATOS!$P$2,AC40=DATOS!$O$3,DATOS!$P$3,AC40=DATOS!$O$4,DATOS!$P$4,AC40=DATOS!$O$5,DATOS!$P$5) -> Asumir o reducir el riesgo | AE40: Reducir el riesgo | AF40: 1. Brindar capacitaciones en manejo de archivo al personal de planta 2. Revisión las TRD y aprobarlas 3. Actualización y socialización del PINAR 4. Implementación de la gestión documental del CONTE. 5. Proyecto: Adquisición del licenciamiento, parametrización, implementación y puesta en producción del sistema de gestión de documento electrónico de archivo – SGDEA. Continuar aplicando los controles. | AG40: Profesional Dirección Ejecutiva / Profesional Gestión Documental | AH40: 45665 | AI40: 46022 | AJ40: Semestral | AK40: Cuadro de mando integral - Profesional de gestión documental | AL40: Cuadro de Mando proceso Control y Mejora Continua Cuadro de Mando Corporativo | AM40: 1. Analizar las causas del incumplimiento 2. Se solicita al responsable la apertura de la acción de mejora - Realizar Nuevamente capacitaciones en manejo de archivos 3. Seguimiento a las acciones definidas. | AN40: NO | AO40: No aplica | AP40: No aplica
D41: Control y Mejora Continua | F41: Gestión | G41: Operativo | J41: Falta de formación continua del personal en normatividad y procedimientos de gestión documental. Alta rotación de personal sin inducción adecuada en gestión documental. Baja apropiación de las responsabilidades de gestión documental por parte de los procesos. | O41: Brindar capacitaciones en manejo de archivo, PINAR y TRD a todos los colaboradores | P41: Son efectivos y están documentados | Q41: =_xlfn.IFS(P41=DATOS!$R$2,DATOS!$S$2,P41=DATOS!$R$3,DATOS!$S$3,P41=DATOS!$R$4,DATOS!$S$4,P41=DATOS!$R$5,DATOS!$S$5,P41=DATOS!$R$6,DATOS!$S$6) -> Fuerte | R41: =_xlfn.IFS(Q41=DATOS!$S$2,DATOS!$T$2,Q41=DATOS!$S$4,DATOS!$T$4,Q41=DATOS!$S$5,DATOS!$T$5,Q41=DATOS!$S$6,DATOS!$T$6) -> 100
D42: Control y Mejora Continua | F42: Gestión | G42: Operativo | J42: Ausencia de seguimiento periódico al cumplimiento de las TRD y del procedimiento de control documental. Limitada implementación de herramientas tecnológicas (SGDEA) que permitan trazabilidad y automatización. | O42: Convalidación de las TRD ante la AGN Seguimiento a la implementación de las TRD | P42: Están documentados pero No son efectivos | Q42: =_xlfn.IFS(P42=DATOS!$R$2,DATOS!$S$2,P42=DATOS!$R$3,DATOS!$S$3,P42=DATOS!$R$4,DATOS!$S$4,P42=DATOS!$R$5,DATOS!$S$5,P42=DATOS!$R$6,DATOS!$S$6) -> Débil | R42: =_xlfn.IFS(Q42=DATOS!$S$2,DATOS!$T$2,Q42=DATOS!$S$4,DATOS!$T$4,Q42=DATOS!$S$5,DATOS!$T$5,Q42=DATOS!$S$6,DATOS!$T$6) -> 0
